BEGIN:VCALENDAR
VERSION:2.0
PRODID:-//SPD Bexbach - ECPv6.15.20//NONSGML v1.0//EN
CALSCALE:GREGORIAN
METHOD:PUBLISH
X-ORIGINAL-URL:https://www.spd-bexbach.de
X-WR-CALDESC:Veranstaltungen für SPD Bexbach
REFRESH-INTERVAL;VALUE=DURATION:PT1H
X-Robots-Tag:noindex
X-PUBLISHED-TTL:PT1H
BEGIN:VTIMEZONE
TZID:Europe/Berlin
BEGIN:DAYLIGHT
TZOFFSETFROM:+0100
TZOFFSETTO:+0200
TZNAME:CEST
DTSTART:20230326T010000
END:DAYLIGHT
BEGIN:STANDARD
TZOFFSETFROM:+0200
TZOFFSETTO:+0100
TZNAME:CET
DTSTART:20231029T010000
END:STANDARD
BEGIN:DAYLIGHT
TZOFFSETFROM:+0100
TZOFFSETTO:+0200
TZNAME:CEST
DTSTART:20240331T010000
END:DAYLIGHT
BEGIN:STANDARD
TZOFFSETFROM:+0200
TZOFFSETTO:+0100
TZNAME:CET
DTSTART:20241027T010000
END:STANDARD
BEGIN:DAYLIGHT
TZOFFSETFROM:+0100
TZOFFSETTO:+0200
TZNAME:CEST
DTSTART:20250330T010000
END:DAYLIGHT
BEGIN:STANDARD
TZOFFSETFROM:+0200
TZOFFSETTO:+0100
TZNAME:CET
DTSTART:20251026T010000
END:STANDARD
BEGIN:DAYLIGHT
TZOFFSETFROM:+0100
TZOFFSETTO:+0200
TZNAME:CEST
DTSTART:20260329T010000
END:DAYLIGHT
BEGIN:STANDARD
TZOFFSETFROM:+0200
TZOFFSETTO:+0100
TZNAME:CET
DTSTART:20261025T010000
END:STANDARD
END:VTIMEZONE
BEGIN:VEVENT
DTSTART;TZID=Europe/Berlin:20250524T150000
DTEND;TZID=Europe/Berlin:20250524T180000
DTSTAMP:20260424T182632
CREATED:20250427T093407Z
LAST-MODIFIED:20250427T093407Z
UID:7391-1748098800-1748109600@www.spd-bexbach.de
SUMMARY:4. Kino – KidsFUN
DESCRIPTION:Der SPD Ortsverein Bexbach-Mitte präsentiert am Samstag 24.05.2025 im Sportheim des SV Bexbach mit freundlicher Unterstützung des SV den Film „Pets“ mit anschließendem Bastel- und Fußballangebot. \nWeitere Informationen findet ihr hier.
URL:https://www.spd-bexbach.de/event/4-kino-kidsfun/
ATTACH;FMTTYPE=image/png:https://www.spd-bexbach.de/wp-content/uploads/2025/04/kino-kidsfun_4.png
END:VEVENT
BEGIN:VEVENT
DTSTART;TZID=Europe/Berlin:20250312T190000
DTEND;TZID=Europe/Berlin:20250312T210000
DTSTAMP:20260424T182632
CREATED:20250225T160544Z
LAST-MODIFIED:20250225T160747Z
UID:7344-1741806000-1741813200@www.spd-bexbach.de
SUMMARY:Infoveranstaltung: Die rechte Szene im Wandel
DESCRIPTION:Infoveranstaltung: Die rechte Szene im Wandel\nAm Mittwoch\, 12.03.2025\, 19:00 Uhr\, referiert Bastian Drumm zum Thema „Die rechte Szene im Wandel“ im Gemeindesaal der protestantischen Kirche Kleinottweiler (Jägersburger Straße 21\, 66450 Bexbach-Kleinottweiler). Die Zeiten\, in denen sich Rechtsradikale mit Glatze\, Springerstiefel\, Blue Jeans und Bomberjacke zeigten\, sind größtenteils vorbei. Sie tragen hippe Klamotten\, hören Rap-Musik und sind in der Mitte der Gesellschaft angekommen. Da sich Symbolik\, Codes\, Musik und Kleidung immer mehr etablieren\, ist auch das Thema „Rechter Lifestyle“ neu zu betrachten. Hierüber berichtet Bastian Drumm in der vom SPD-Stadtverband Bexbach organisierten Veranstaltung. Der Eintritt ist frei. Der aus Kusel stammende Referent hat an der Universität Landau Erziehungswissenschaften studiert und arbeitet seit April 2008 in der „Kontaktstelle Holler“ als Sozialarbeiter. Diese Einrichtung bietet Kindern und Jugendlichen jeglichen Alters Bildungs- und Freizeitangebote an. Zudem ist er seit einigen Jahren Mitorganisator des „Kein Bock auf Nazis“-Festivals und weiterer Veranstaltungen.
URL:https://www.spd-bexbach.de/event/infoveranstaltung-die-rechte-szene-im-wandel/
LOCATION:Gemeindesaal der protestantischen Kirche Kleinottweiler\, Jägersburger Straße 21\, Bexbach-Kleinottweiler\, 66450
ATTACH;FMTTYPE=image/jpeg:https://www.spd-bexbach.de/wp-content/uploads/2025/02/Vortrag_12-03-2025.jpg
END:VEVENT
BEGIN:VEVENT
DTSTART;TZID=Europe/Berlin:20250208T150000
DTEND;TZID=Europe/Berlin:20250208T180000
DTSTAMP:20260424T182632
CREATED:20241126T164803Z
LAST-MODIFIED:20241126T165729Z
UID:7306-1739026800-1739037600@www.spd-bexbach.de
SUMMARY:3. Kino – KidsFUN
DESCRIPTION:Der SPD Ortsverein Bexbach-Mitte präsentiert am Samstag 08.02.2025 im Sportheim des SV Bexbach mit freundlicher Unterstützung des SV den Film „Pets“ mit anschließendem Bastel- und Fußballangebot. \nWeitere Informationen findet ihr hier.
URL:https://www.spd-bexbach.de/event/3-kino-kidsfun/
ATTACH;FMTTYPE=image/png:https://www.spd-bexbach.de/wp-content/uploads/2024/11/kino-kidsfun_3.png
END:VEVENT
BEGIN:VEVENT
DTSTART;TZID=Europe/Berlin:20241130T150000
DTEND;TZID=Europe/Berlin:20241130T180000
DTSTAMP:20260424T182632
CREATED:20240730T125347Z
LAST-MODIFIED:20240730T125347Z
UID:7269-1732978800-1732989600@www.spd-bexbach.de
SUMMARY:2. Kino – KidsFUN
DESCRIPTION:Der SPD Ortsverein Bexbach-Mitte präsentiert am Samstag 30.11.2024 im Sportheim des SV Bexbach mit freundlicher Unterstützung des SV den weihnachtlichen Klassiker „Santa Clause – Eine schöne Bescherung“ mit anschließendem Bastel- und Fußballangebot. \nWeitere Informationen findet ihr hier.
URL:https://www.spd-bexbach.de/event/2-kino-kidsfun/
ATTACH;FMTTYPE=image/jpeg:https://www.spd-bexbach.de/wp-content/uploads/2024/07/kino-kidsfun_2.jpeg
END:VEVENT
BEGIN:VEVENT
DTSTART;TZID=Europe/Berlin:20240803T150000
DTEND;TZID=Europe/Berlin:20240803T180000
DTSTAMP:20260424T182632
CREATED:20240625T132037Z
LAST-MODIFIED:20240625T132037Z
UID:7246-1722697200-1722708000@www.spd-bexbach.de
SUMMARY:Kino – KidsFUN
DESCRIPTION:Der SPD Ortsverein Bexbach-Mitte präsentiert am Samstag 03.08.2024 im Sportheim des SV Bexbach mit freundlicher Unterstützung des SV den spannenden Film „Elemental“ mit  anschließendem Bastel- und Fußballangebot. \nWeitere Informationen findet ihr hier.
URL:https://www.spd-bexbach.de/event/kino-kidsfun/
ATTACH;FMTTYPE=image/png:https://www.spd-bexbach.de/wp-content/uploads/2024/06/kino-kidsfun.png
END:VEVENT
BEGIN:VEVENT
DTSTART;TZID=Europe/Berlin:20240707T110000
DTEND;TZID=Europe/Berlin:20240707T170000
DTSTAMP:20260424T182632
CREATED:20240621T211537Z
LAST-MODIFIED:20240621T211537Z
UID:7237-1720350000-1720371600@www.spd-bexbach.de
SUMMARY:Kinder- und Familienfest
DESCRIPTION:Am Sonntag\, den 07. Juli von 11Uhr bis 17uhr veranstaltet der Ortsverein Bexbach-Mitte das alljährliche Familienfest auf der Heide in Bexbach. Auf das Gelände des SV sind Jung und Alt sowie Klein und Groß eingeladen. So gibt es eine Hüpfburg\, Zauberkunst durch Mr Magic\, Kinderspielangebote sowie Kinderschminken und einen musikalischen Beitrag eines Gitarrenensembles. Für das leibliche Wohl ist natürlich auch gesorgt! Neben Spießbraten mit Kartoffelsalat und Rostbratwürstchen\, wird es ein großes Kuchenangebot geben.
URL:https://www.spd-bexbach.de/event/kinder-und-familienfest/
ATTACH;FMTTYPE=image/jpeg:https://www.spd-bexbach.de/wp-content/uploads/2024/06/familienfest.jpg
END:VEVENT
BEGIN:VEVENT
DTSTART;TZID=Europe/Berlin:20240627T180000
DTEND;TZID=Europe/Berlin:20240627T210000
DTSTAMP:20260424T182632
CREATED:20240624T071639Z
LAST-MODIFIED:20240624T071812Z
UID:7240-1719511200-1719522000@www.spd-bexbach.de
SUMMARY:Stammtisch der SPD Frankenholz
DESCRIPTION:Aufgrund der positiven Erfahrungen der letzten Veranstaltungen hat sich die SPD Frankenholz entschlossen\, den Austausch mit den Frankenholzer Bürgerinnen und Bürgern – aber auch mit Freunden unseres Ortes – regelmäßiger anzubieten. \n\nDie SPD Frankenholz lädt deshalb alle Interessierten\, Freunde und Mitglieder jeden letzten Donnerstag im Monat zum Stammtisch in die Waschkaue ein.\n\n\nLos geht es am 27.06. ab 18:00 Uhr – wir freuen uns auf viele interessante Gespräche mit euch!
URL:https://www.spd-bexbach.de/event/stammtisch-der-spd-frankenholz/
ATTACH;FMTTYPE=image/png:https://www.spd-bexbach.de/wp-content/uploads/2024/06/stammtisch.png
END:VEVENT
BEGIN:VEVENT
DTSTART;TZID=Europe/Berlin:20240420T140000
DTEND;TZID=Europe/Berlin:20240420T190000
DTSTAMP:20260424T182632
CREATED:20240415T090154Z
LAST-MODIFIED:20240415T161409Z
UID:7200-1713621600-1713639600@www.spd-bexbach.de
SUMMARY:Frühlingswanderung in Niederbexbach
DESCRIPTION:Der SPD-Stadtverband Bexbach und der SPD-Ortsverein Niederbexbach laden alle Bürgerinnen und Bürger zu einer Frühlingswanderung und anschließend zu einem gemütlichen Beisammensein am und im Sportheim des SV 1928 Niederbexbach ein. Treffpunkt ist am Samstag\, 20.04.2024\, um 14:00 Uhr der Sportplatz Niederbexbach (Gassenweg 14). „Der Rundwanderweg führt uns durch Niederbexbach\, über Wiesen und durch Wälder\, vorbei am Gänseweiher und der Bliesbrücke. Zur Stärkung wird am Holzauwehr eine kurze Rast eingelegt“\, erläutert Norbert Schuth\, Ortsvorsteher von Niederbexbach und Vorsitzender des SPD-Ortsvereins\, die Wanderstrecke. \nWer nicht mitwandern möchte oder kann\, ist ab ca. 17.00 Uhr zum anschließenden gemütlichen Beisammensein im Sportheim eingeladen\, wo der SV Niederbexbach für das leibliche Wohl sorgen wird. Es werden Amts- und Mandatsträger\, Abgeordnete\, Mitglieder unserer Stadtratsfraktion und der Ortsratsfraktionen dabei sein und gerne für Gespräche und Fragen zur Verfügung stehen. Die SPD freut sich auf einen schönen gemeinsamen Nachmittag und einen regen Austausch.
URL:https://www.spd-bexbach.de/event/fruehlingswanderung-in-niederbexbach/
ATTACH;FMTTYPE=image/jpeg:https://www.spd-bexbach.de/wp-content/uploads/2024/04/IMG-20240415-WA0023.jpg
END:VEVENT
BEGIN:VEVENT
DTSTART;TZID=Europe/Berlin:20240413T180000
DTEND;TZID=Europe/Berlin:20240413T220000
DTSTAMP:20260424T182632
CREATED:20240405T165437Z
LAST-MODIFIED:20240405T165437Z
UID:7183-1713031200-1713045600@www.spd-bexbach.de
SUMMARY:SPD im Dialog
DESCRIPTION:Der SPD-Stadtverband Bexbach lädt am Samstag\, 13.04.2024\, 18:00 Uhr\, alle Bürgerinnen und Bürger herzlich zu einer Dialogveranstaltung ins Sport- und Kulturheim Kleinottweiler (Schwannstraße 13\, Bexbach-Kleinottweiler) ein. Gemeinsam mit Landratskandidat Frank John werden die Kandidatinnen und Kandidaten der Bexbacher SPD für die Ortsräte\, den Stadtrat und den Kreistag sowie die Ziele und Ideen der SPD für die kommenden Jahre vorgestellt. Es besteht Gelegenheit zum Austausch und zum geselligen Beisammensein. Die SPD Bexbach freut sich auf einen interessanten Abend.
URL:https://www.spd-bexbach.de/event/spd-im-dialog/
ATTACH;FMTTYPE=image/jpeg:https://www.spd-bexbach.de/wp-content/uploads/2024/04/SPD_im_Dialog.jpg
END:VEVENT
END:VCALENDAR